BEGIN:VCALENDAR
VERSION:2.0
PRODID:-//https://www.kindergarten-brebersdorf.de///NONSGML kigkonsult.se iCalcreator 2.10.15//
METHOD:PUBLISH
BEGIN:VEVENT
UID:20260424T014324CEST-5308bto3O2@https://www.kindergarten-brebersdorf.de/
DTSTAMP:20260423T234324Z
DESCRIPTION: https://www.kindergarten-brebersdorf.de/aktuelles/event/109-bl
 asiussegen
DTSTART:20190131T080000Z
DTEND:20190131T090000Z
LOCATION:Kindergarten  ()
SUMMARY:Blasiussegen
URL:https://www.kindergarten-brebersdorf.de/aktuelles/event/109-blasiussege
 n
END:VEVENT
END:VCALENDAR
